BEGIN:VCALENDAR
VERSION:2.0
PRODID:-//wp-events-plugin.com//7.2.3.1//EN
BEGIN:VEVENT
UID:207@smartde.coop
DTSTART:20260428T100000Z
DTEND:20260428T160000Z
DTSTAMP:20260422T131157Z
URL:https://smartde.coop/events/psychoedukation-fuer-maenner-zur-ueberwind
 ung-der-gender-power-gap/
SUMMARY:Psychoedukation für Männer zur Überwindung der Gender Power Gap?
DESCRIPTION:Psychoedukation von Männern in Führungspositionen – Verb
 ündete bei der Überwindung der Gender Power Gap? Workshop für Frauen
 . Wenn Frauen mehr Mut zum Chefsessel entwickeln wollen\, damit die Pote
 nziale aller zur Entfaltung kommen\, bedarf es dafür auch einer größere
 n Offenheit von Männern\, die bereits in Leitungspositionen sind. Welche
  Hindernisse stehen dem entgegen? Wie können Dialog ermöglicht\, (unbew
 usste) Vorurteile und Kooperation gefördert werden? Wir stellen dazu ein
  Lernmodul vor und verbinden dies mit praktischen Übungen. Eine Gelegenhe
 it zu Austausch und Vernetzung.\nWANN+WO? \nDienstag\, 28. April 2026\, 1
 5-18 Uhr\nKiezLab im Edge East Side Berlin („Amazon-Haus“)\, Tamara-Da
 nz-Straße 13 10243 Berlin\,\n 2. Etage\, U+S Bhf. Warschauer Str.\nMehr:
  https://elevather.eu/de/event/psychoedukation/\; \nAnmeldung über Even
 tbrite: https://is.gd/VMdp0v.
ATTACH;FMTTYPE=image/jpeg:https://smartde.coop/wp-content/uploads/2026/04/
 Dialog-mediensturmer-aWf7mjwwJJo-unsplash-Kopie.jpg
CATEGORIES:event,Veranstaltung
LOCATION:KiezLab\, Tamara-Danz-Str. 13\, Berlin \, Berlin\, Deutschland
X-APPLE-STRUCTURED-LOCATION;VALUE=URI;X-ADDRESS=Tamara-Danz-Str. 13\, Berli
 n \, Berlin\, Deutschland;X-APPLE-RADIUS=100;X-TITLE=KiezLab:geo:0,0
END:VEVENT
END:VCALENDAR