BEGIN:VCALENDAR
VERSION:2.0
PRODID:-//wp-events-plugin.com//7.2.3.1//EN
BEGIN:VEVENT
UID:205@smartde.coop
DTSTART:20260429T183000Z
DTEND:20260429T203000Z
DTSTAMP:20260415T122203Z
URL:https://smartde.coop/events/leading-from-aliveness-lab-intro-experienc
 e-session/
SUMMARY:Leading from Aliveness Lab - Intro & Experience Session
DESCRIPTION:\n\n\n\n\n\n\n\nRather than a traditional presentation\, this s
 ession combines reflection\, shared exploration and practical insight. You
  are welcome exactly as you are\, whether you arrive with clear questions 
 or simple curiosity.\n\n\n\nWhat to expect: A guided exploration of the co
 re ideas behind the programme\, Space for reflection and new perspectives\
 , An opportunity to sense whether this work resonates with your current li
 fe or leadership questions\nPractical details:  Once you're registered\, 
 we'll send the link straight to your inbox - see you there! You may partic
 ipate actively or simply listen\, both are welcome.\nPlease book here!\n\n
 \n\n\n\n\n\n\n\n\n\n
ATTACH;FMTTYPE=image/jpeg:https://smartde.coop/wp-content/uploads/2026/04/
 fot.joanna_furgal-3429-2.jpg
CATEGORIES:event,Veranstaltung,WorkCoopHub
END:VEVENT
END:VCALENDAR